BEGIN:VCALENDAR
VERSION:2.0
PRODID:-//hacksw/handcal//NONSGML v1.0//EN
BEGIN:VEVENT
SUMMARY:Entrainement de masse a longeville 18h15 19h30 poussin benjamin
UID:24973bf4-2b52-4961-b049-546a8ccb58ed
DTSTART:20260410T161500Z
DTEND:20260410T200000Z
LOCATION:Localisation   
CATEGORIES:Sportif
STATUS:
URL;VALUE=URI:https://judoclub-faulquemont-crehange.sportsregions.fr/evenements/2026/04/10/entrainement-de-masse-a-longeville-18h15-19h30-poussin-benjamin-2439293
END:VEVENT
END:VCALENDAR
