BEGIN:VCALENDAR
VERSION:2.0
PRODID:-//hacksw/handcal//NONSGML v1.0//EN
BEGIN:VEVENT
SUMMARY:Entrainement de masse a longeville 19h30 21h30 minimes cadets junior
UID:60db41ba-a2e1-4ffc-aff5-ed9f9e635c11
DTSTART:20260410T173000Z
DTEND:20260410T200000Z
LOCATION:Localisation   
CATEGORIES:Sportif
STATUS:
URL;VALUE=URI:https://judoclub-faulquemont-crehange.sportsregions.fr/evenements/2026/04/10/entrainement-de-masse-a-longeville-19h30-21h30-minimes-cadets-junior-2439294
END:VEVENT
END:VCALENDAR
